BEGIN:VCALENDAR
VERSION:2.0
PRODID:-//Bayard Cutting Arboretum - ECPv6.15.20//NONSGML v1.0//EN
CALSCALE:GREGORIAN
METHOD:PUBLISH
X-ORIGINAL-URL:https://bayardcuttingarboretum.com
X-WR-CALDESC:Events for Bayard Cutting Arboretum
REFRESH-INTERVAL;VALUE=DURATION:PT1H
X-Robots-Tag:noindex
X-PUBLISHED-TTL:PT1H
BEGIN:VTIMEZONE
TZID:America/New_York
BEGIN:DAYLIGHT
TZOFFSETFROM:-0500
TZOFFSETTO:-0400
TZNAME:EDT
DTSTART:20250309T070000
END:DAYLIGHT
BEGIN:STANDARD
TZOFFSETFROM:-0400
TZOFFSETTO:-0500
TZNAME:EST
DTSTART:20251102T060000
END:STANDARD
BEGIN:DAYLIGHT
TZOFFSETFROM:-0500
TZOFFSETTO:-0400
TZNAME:EDT
DTSTART:20260308T070000
END:DAYLIGHT
BEGIN:STANDARD
TZOFFSETFROM:-0400
TZOFFSETTO:-0500
TZNAME:EST
DTSTART:20261101T060000
END:STANDARD
BEGIN:DAYLIGHT
TZOFFSETFROM:-0500
TZOFFSETTO:-0400
TZNAME:EDT
DTSTART:20270314T070000
END:DAYLIGHT
BEGIN:STANDARD
TZOFFSETFROM:-0400
TZOFFSETTO:-0500
TZNAME:EST
DTSTART:20271107T060000
END:STANDARD
END:VTIMEZONE
BEGIN:VEVENT
DTSTART;TZID=America/New_York:20260307T103000
DTEND;TZID=America/New_York:20260307T123000
DTSTAMP:20260419T193355
CREATED:20241202T041053Z
LAST-MODIFIED:20260101T162521Z
UID:10004317-1772879400-1772886600@bayardcuttingarboretum.com
SUMMARY:Forest Therapy Walk
DESCRIPTION:Forest Therapy Walk\n\nSaturday\, January 10\, 2026 \nSaturday\, February 7\, 2026 \nSaturday\, March 7\, 2026 \nSaturday\, April 11\, 2026 \nSaturday\, May 2\, 2026 \nSaturday\, June 6\, 2026 \nSaturday\, July 11\, 2026 \nSaturday\, August 1\, 2026 \nSaturday\, September 12\, 2026 \nSaturday\, October 3\, 2026 \nSaturday\, November 7\, 2026 \nSaturday\, December 5\, 2026 \n  \n  \n\n10:30 AM – 12:30 PM\nCost: $45 per person\n  \nJoin certified forest therapy guide\, Linda Lombardo of Wild Heart Nature Connection\, on a walk to reconnect with the natural world around us. We’ll slow down\, wander\, and notice what most of the world simply walks past; the beauty of nature in any season. We’ll do some grounding\, connect with the trees and water\, and even create some nature art together. \nWalk length: 120 minutes; please wear comfortable\, sturdy shoes and warm clothing for walking outdoors. \n  \nREGISTER HERE!
URL:https://bayardcuttingarboretum.com/event/forest-therapy-walk-2025/2026-03-07/
LOCATION:Bayard Cutting Arboretum\, 440 Montauk Highway\, Great River\, NY\, 11739\, United States
CATEGORIES:Wellness Walk
ATTACH;FMTTYPE=image/jpeg:https://bayardcuttingarboretum.com/wp-content/uploads/2024/12/Forest-Walking-Linda-Lombardo.jpg
ORGANIZER;CN="Bayard Cutting Arboretum":MAILTO:Kristen.Cella@parks.ny.gov
GEO:40.745332;-73.152608
X-APPLE-STRUCTURED-LOCATION;VALUE=URI;X-ADDRESS=Bayard Cutting Arboretum 440 Montauk Highway Great River NY 11739 United States;X-APPLE-RADIUS=500;X-TITLE=440 Montauk Highway:geo:-73.152608,40.745332
END:VEVENT
BEGIN:VEVENT
DTSTART;TZID=America/New_York:20260321T093000
DTEND;TZID=America/New_York:20260321T163000
DTSTAMP:20260419T193355
CREATED:20260113T163711Z
LAST-MODIFIED:20260318T185331Z
UID:10004352-1774085400-1774110600@bayardcuttingarboretum.com
SUMMARY:Oasis of Beauty: Wellness Day Retreat
DESCRIPTION:Oasis of Beauty: Wellness Day Retreat – SOLD OUT\nAges 18+ \nSaturday\, March 21\, 2026  |  9:30 AM- 4:30 PM \n  \nCost: $150 per participant \nOASIS OF BEAUTY IS SOLD OUT \n  \nAbout this Workshop\nExperience firsthand the mission statement of Bayard Cutting Arboretum\, which is: “An oasis of beauty and quiet for the pleasure\, rest\, and refreshment of those who delight in outdoor beauty… ” \nThis Wellness Day Retreat includes a full list of activities\, including: a yoga class\, forest bathing walk\, therapeutic art project\, a sound healing session\, and lunch catered by the Hidden Oak Cafe. \nParticipants can expect to leave the day feeling refreshed and renewed right in time for the budding season of spring. There will be both indoor and outdoor portions of this experience. Get away without going away at Bayard Cutting Arboretum. \n  \n\n1. Parking fees may apply; see website for details: https://bayardcuttingarboretum.com/visit/hours/\n2. Transactions will be processed through the Natural Heritage Trust; fees cannot be refunded for participant cancellation.\n3. For any additional questions\, contact our Education Coordinator\, K.T. Williamso\,n via Email: KT.Williamson@parks.ny.gov \n 
URL:https://bayardcuttingarboretum.com/event/oasis-of-beauty-wellness-day-retreat/
LOCATION:Bayard Cutting Arboretum\, 440 Montauk Highway\, Great River\, NY\, 11739\, United States
CATEGORIES:18+ Workshop,Wellness Walk,Workshops
ATTACH;FMTTYPE=image/jpeg:https://bayardcuttingarboretum.com/wp-content/uploads/2026/01/Oasis-Day-Retreat-2026-scaled.jpg
ORGANIZER;CN="Bayard Cutting Arboretum":MAILTO:Kristen.Cella@parks.ny.gov
GEO:40.745332;-73.152608
X-APPLE-STRUCTURED-LOCATION;VALUE=URI;X-ADDRESS=Bayard Cutting Arboretum 440 Montauk Highway Great River NY 11739 United States;X-APPLE-RADIUS=500;X-TITLE=440 Montauk Highway:geo:-73.152608,40.745332
END:VEVENT
END:VCALENDAR