BEGIN:VCALENDAR
VERSION:2.0
PRODID:-//Bayard Cutting Arboretum - ECPv6.15.20//NONSGML v1.0//EN
CALSCALE:GREGORIAN
METHOD:PUBLISH
X-WR-CALNAME:Bayard Cutting Arboretum
X-ORIGINAL-URL:https://bayardcuttingarboretum.com
X-WR-CALDESC:Events for Bayard Cutting Arboretum
REFRESH-INTERVAL;VALUE=DURATION:PT1H
X-Robots-Tag:noindex
X-PUBLISHED-TTL:PT1H
BEGIN:VTIMEZONE
TZID:America/New_York
BEGIN:DAYLIGHT
TZOFFSETFROM:-0500
TZOFFSETTO:-0400
TZNAME:EDT
DTSTART:20240310T070000
END:DAYLIGHT
BEGIN:STANDARD
TZOFFSETFROM:-0400
TZOFFSETTO:-0500
TZNAME:EST
DTSTART:20241103T060000
END:STANDARD
BEGIN:DAYLIGHT
TZOFFSETFROM:-0500
TZOFFSETTO:-0400
TZNAME:EDT
DTSTART:20250309T070000
END:DAYLIGHT
BEGIN:STANDARD
TZOFFSETFROM:-0400
TZOFFSETTO:-0500
TZNAME:EST
DTSTART:20251102T060000
END:STANDARD
BEGIN:DAYLIGHT
TZOFFSETFROM:-0500
TZOFFSETTO:-0400
TZNAME:EDT
DTSTART:20260308T070000
END:DAYLIGHT
BEGIN:STANDARD
TZOFFSETFROM:-0400
TZOFFSETTO:-0500
TZNAME:EST
DTSTART:20261101T060000
END:STANDARD
END:VTIMEZONE
BEGIN:VEVENT
DTSTART;TZID=America/New_York:20250809T180000
DTEND;TZID=America/New_York:20250809T200000
DTSTAMP:20260422T072927
CREATED:20250622T184902Z
LAST-MODIFIED:20250622T184957Z
UID:10002090-1754762400-1754769600@bayardcuttingarboretum.com
SUMMARY:Fields & Flavors at the Farm
DESCRIPTION:Fields & Flavors at the Farm (21+)\n  \nSaturday\, August 9\, 2025 \n6:00 PM – 8:00 PM \n  \nCost: $200 per person \n  \nLearn more about the Gala Here
URL:https://bayardcuttingarboretum.com/event/fields-flavors-at-the-farm/
LOCATION:Bayard Cutting Arboretum\, 440 Montauk Highway\, Great River\, NY\, 11739\, United States
CATEGORIES:21+ Events,Annual Fundraiser
ATTACH;FMTTYPE=image/jpeg:https://bayardcuttingarboretum.com/wp-content/uploads/2025/06/Zinnias-and-barn-1-scaled.jpg
ORGANIZER;CN="Bayard Cutting Arboretum":MAILTO:Kristen.Cella@parks.ny.gov
GEO:40.745332;-73.152608
X-APPLE-STRUCTURED-LOCATION;VALUE=URI;X-ADDRESS=Bayard Cutting Arboretum 440 Montauk Highway Great River NY 11739 United States;X-APPLE-RADIUS=500;X-TITLE=440 Montauk Highway:geo:-73.152608,40.745332
END:VEVENT
END:VCALENDAR