BEGIN:VCALENDAR
VERSION:2.0
PRODID:-//Bayard Cutting Arboretum - ECPv6.15.20//NONSGML v1.0//EN
CALSCALE:GREGORIAN
METHOD:PUBLISH
X-ORIGINAL-URL:https://bayardcuttingarboretum.com
X-WR-CALDESC:Events for Bayard Cutting Arboretum
REFRESH-INTERVAL;VALUE=DURATION:PT1H
X-Robots-Tag:noindex
X-PUBLISHED-TTL:PT1H
BEGIN:VTIMEZONE
TZID:America/New_York
BEGIN:DAYLIGHT
TZOFFSETFROM:-0500
TZOFFSETTO:-0400
TZNAME:EDT
DTSTART:20230312T070000
END:DAYLIGHT
BEGIN:STANDARD
TZOFFSETFROM:-0400
TZOFFSETTO:-0500
TZNAME:EST
DTSTART:20231105T060000
END:STANDARD
BEGIN:DAYLIGHT
TZOFFSETFROM:-0500
TZOFFSETTO:-0400
TZNAME:EDT
DTSTART:20240310T070000
END:DAYLIGHT
BEGIN:STANDARD
TZOFFSETFROM:-0400
TZOFFSETTO:-0500
TZNAME:EST
DTSTART:20241103T060000
END:STANDARD
BEGIN:DAYLIGHT
TZOFFSETFROM:-0500
TZOFFSETTO:-0400
TZNAME:EDT
DTSTART:20250309T070000
END:DAYLIGHT
BEGIN:STANDARD
TZOFFSETFROM:-0400
TZOFFSETTO:-0500
TZNAME:EST
DTSTART:20251102T060000
END:STANDARD
END:VTIMEZONE
BEGIN:VEVENT
DTSTART;TZID=America/New_York:20241127T103000
DTEND;TZID=America/New_York:20241127T113000
DTSTAMP:20260421T150607
CREATED:20240228T231959Z
LAST-MODIFIED:20240715T212525Z
UID:10000845-1732703400-1732707000@bayardcuttingarboretum.com
SUMMARY:Docent-Led Grounds Tour
DESCRIPTION:Docent-Led Grounds Tour\nEnjoy a grounds tour through various areas of the Bayard Cutting Arboretum. \nDocent’s Choice Grounds Tour – One-hour tour available each Wednesday and Saturday at 10:30 am except for Specialty Tour dates (see below). $5.00 per person. \nPrivate Grounds Tour – Personalized 90-minute docent-led group tour. Dates and times are flexible. $10.00 per person. \nSpotlight Tour (On Hiatus) – Docents will spotlight specific\, seasonally appropriate areas of the Arboretum in a one-hour grounds tour. Available only on the first Wednesday and first Saturday of each month. $5.00 per person. \nFor registration please call 1-631-581-1002. \n  \nTour Information
URL:https://bayardcuttingarboretum.com/event/docent-led-grounds-tour/2024-11-27/
LOCATION:Bayard Cutting Arboretum\, 440 Montauk Highway\, Great River\, NY\, 11739\, United States
CATEGORIES:Grounds Tour
ATTACH;FMTTYPE=image/jpeg:https://bayardcuttingarboretum.com/wp-content/uploads/2017/09/Pinetum-Ext-Thumbnail.jpg
ORGANIZER;CN="Bayard Cutting Arboretum":MAILTO:Kristen.Cella@parks.ny.gov
GEO:40.745332;-73.152608
X-APPLE-STRUCTURED-LOCATION;VALUE=URI;X-ADDRESS=Bayard Cutting Arboretum 440 Montauk Highway Great River NY 11739 United States;X-APPLE-RADIUS=500;X-TITLE=440 Montauk Highway:geo:-73.152608,40.745332
END:VEVENT
END:VCALENDAR