BEGIN:VCALENDAR
VERSION:2.0
PRODID:-//Bayard Cutting Arboretum - ECPv6.15.20//NONSGML v1.0//EN
CALSCALE:GREGORIAN
METHOD:PUBLISH
X-ORIGINAL-URL:https://bayardcuttingarboretum.com
X-WR-CALDESC:Events for Bayard Cutting Arboretum
REFRESH-INTERVAL;VALUE=DURATION:PT1H
X-Robots-Tag:noindex
X-PUBLISHED-TTL:PT1H
BEGIN:VTIMEZONE
TZID:America/New_York
BEGIN:DAYLIGHT
TZOFFSETFROM:-0500
TZOFFSETTO:-0400
TZNAME:EDT
DTSTART:20240310T070000
END:DAYLIGHT
BEGIN:STANDARD
TZOFFSETFROM:-0400
TZOFFSETTO:-0500
TZNAME:EST
DTSTART:20241103T060000
END:STANDARD
BEGIN:DAYLIGHT
TZOFFSETFROM:-0500
TZOFFSETTO:-0400
TZNAME:EDT
DTSTART:20250309T070000
END:DAYLIGHT
BEGIN:STANDARD
TZOFFSETFROM:-0400
TZOFFSETTO:-0500
TZNAME:EST
DTSTART:20251102T060000
END:STANDARD
BEGIN:DAYLIGHT
TZOFFSETFROM:-0500
TZOFFSETTO:-0400
TZNAME:EDT
DTSTART:20260308T070000
END:DAYLIGHT
BEGIN:STANDARD
TZOFFSETFROM:-0400
TZOFFSETTO:-0500
TZNAME:EST
DTSTART:20261101T060000
END:STANDARD
END:VTIMEZONE
BEGIN:VEVENT
DTSTART;TZID=America/New_York:20251211T093000
DTEND;TZID=America/New_York:20251211T103000
DTSTAMP:20260423T013001
CREATED:20250924T135649Z
LAST-MODIFIED:20250924T135852Z
UID:10002183-1765445400-1765449000@bayardcuttingarboretum.com
SUMMARY:Forest School: Holiday Helpers
DESCRIPTION:Forest School: Holiday Helpers\nThursdays\, November 6 – December 18\, 2025  |  9:30 – 10:30 AM \nOR \nNovember 6 – December 18\, 2025  |  11:00 AM – 12:00 PM \n  \nAges 2-7 \nCost: $150 per child for the entire 6-week series \n  \nENROLL IN Forest SCHOOL Holiday Helpers HERE \n  \n  \nJoin us this Holiday Season for a 6-week series in which we will explore the arboretum\, collecting items to create very special arts and crafts projects. This program includes both indoor and outdoor portions. \nIn this program\, caregivers can expect their children to practice newly emerging motor skills\, develop social skills through both imaginative and cooperative play\, and foster a deeper sense of connection to nature and the changing seasons. \nThis class is best intended for ages 2-7 and is rain or shine. Caregivers are required to stay with children for the duration of the class. It is always wise to dress for a mess! \nDOWNLOAD THE Forest SCHOOL Holiday Helpers FLYER HERE
URL:https://bayardcuttingarboretum.com/event/forest-school-holiday-helpers/2025-12-11/1/
LOCATION:Bayard Cutting Arboretum\, 440 Montauk Highway\, Great River\, NY\, 11739\, United States
CATEGORIES:Elementary Education
ATTACH;FMTTYPE=image/jpeg:https://bayardcuttingarboretum.com/wp-content/uploads/2025/09/holidayhelpers.jpg
ORGANIZER;CN="Bayard Cutting Arboretum":MAILTO:Kristen.Cella@parks.ny.gov
GEO:40.745332;-73.152608
X-APPLE-STRUCTURED-LOCATION;VALUE=URI;X-ADDRESS=Bayard Cutting Arboretum 440 Montauk Highway Great River NY 11739 United States;X-APPLE-RADIUS=500;X-TITLE=440 Montauk Highway:geo:-73.152608,40.745332
END:VEVENT
BEGIN:VEVENT
DTSTART;TZID=America/New_York:20251211T110000
DTEND;TZID=America/New_York:20251211T120000
DTSTAMP:20260423T013001
CREATED:20250924T135649Z
LAST-MODIFIED:20250924T135852Z
UID:10002184-1765450800-1765454400@bayardcuttingarboretum.com
SUMMARY:Forest School: Holiday Helpers
DESCRIPTION:Forest School: Holiday Helpers\nThursdays\, November 6 – December 18\, 2025  |  9:30 – 10:30 AM \nOR \nNovember 6 – December 18\, 2025  |  11:00 AM – 12:00 PM \n  \nAges 2-7 \nCost: $150 per child for the entire 6-week series \n  \nENROLL IN Forest SCHOOL Holiday Helpers HERE \n  \n  \nJoin us this Holiday Season for a 6-week series in which we will explore the arboretum\, collecting items to create very special arts and crafts projects. This program includes both indoor and outdoor portions. \nIn this program\, caregivers can expect their children to practice newly emerging motor skills\, develop social skills through both imaginative and cooperative play\, and foster a deeper sense of connection to nature and the changing seasons. \nThis class is best intended for ages 2-7 and is rain or shine. Caregivers are required to stay with children for the duration of the class. It is always wise to dress for a mess! \nDOWNLOAD THE Forest SCHOOL Holiday Helpers FLYER HERE
URL:https://bayardcuttingarboretum.com/event/forest-school-holiday-helpers/2025-12-11/2/
LOCATION:Bayard Cutting Arboretum\, 440 Montauk Highway\, Great River\, NY\, 11739\, United States
CATEGORIES:Elementary Education
ATTACH;FMTTYPE=image/jpeg:https://bayardcuttingarboretum.com/wp-content/uploads/2025/09/holidayhelpers.jpg
ORGANIZER;CN="Bayard Cutting Arboretum":MAILTO:Kristen.Cella@parks.ny.gov
GEO:40.745332;-73.152608
X-APPLE-STRUCTURED-LOCATION;VALUE=URI;X-ADDRESS=Bayard Cutting Arboretum 440 Montauk Highway Great River NY 11739 United States;X-APPLE-RADIUS=500;X-TITLE=440 Montauk Highway:geo:-73.152608,40.745332
END:VEVENT
END:VCALENDAR