BEGIN:VCALENDAR
VERSION:2.0
PRODID:-//Bayard Cutting Arboretum - ECPv6.15.20//NONSGML v1.0//EN
CALSCALE:GREGORIAN
METHOD:PUBLISH
X-ORIGINAL-URL:https://bayardcuttingarboretum.com
X-WR-CALDESC:Events for Bayard Cutting Arboretum
REFRESH-INTERVAL;VALUE=DURATION:PT1H
X-Robots-Tag:noindex
X-PUBLISHED-TTL:PT1H
BEGIN:VTIMEZONE
TZID:America/New_York
BEGIN:DAYLIGHT
TZOFFSETFROM:-0500
TZOFFSETTO:-0400
TZNAME:EDT
DTSTART:20250309T070000
END:DAYLIGHT
BEGIN:STANDARD
TZOFFSETFROM:-0400
TZOFFSETTO:-0500
TZNAME:EST
DTSTART:20251102T060000
END:STANDARD
BEGIN:DAYLIGHT
TZOFFSETFROM:-0500
TZOFFSETTO:-0400
TZNAME:EDT
DTSTART:20260308T070000
END:DAYLIGHT
BEGIN:STANDARD
TZOFFSETFROM:-0400
TZOFFSETTO:-0500
TZNAME:EST
DTSTART:20261101T060000
END:STANDARD
BEGIN:DAYLIGHT
TZOFFSETFROM:-0500
TZOFFSETTO:-0400
TZNAME:EDT
DTSTART:20270314T070000
END:DAYLIGHT
BEGIN:STANDARD
TZOFFSETFROM:-0400
TZOFFSETTO:-0500
TZNAME:EST
DTSTART:20271107T060000
END:STANDARD
END:VTIMEZONE
BEGIN:VEVENT
DTSTART;TZID=America/New_York:20260502T103000
DTEND;TZID=America/New_York:20260502T113000
DTSTAMP:20260419T175527
CREATED:20260301T215727Z
LAST-MODIFIED:20260301T220014Z
UID:10004370-1777717800-1777721400@bayardcuttingarboretum.com
SUMMARY:Grounds Tours
DESCRIPTION:Grounds Tours\nOutdoor guided tours of the arboretum are offered seasonally\, spring through the fall\, every Saturday at 10:30 am (weather permitting). The tours run approximately 45-60 minutes and cost $5.00/person. \n  \nRegister for a Grounds Tour
URL:https://bayardcuttingarboretum.com/event/free-grounds-tours-2/2026-05-02/
LOCATION:Bayard Cutting Arboretum\, 440 Montauk Highway\, Great River\, NY\, 11739\, United States
CATEGORIES:Grounds Tour
ATTACH;FMTTYPE=image/png:https://bayardcuttingarboretum.com/wp-content/uploads/2023/03/Welcome_Spring_Event.png
ORGANIZER;CN="Bayard Cutting Arboretum":MAILTO:Kristen.Cella@parks.ny.gov
GEO:40.745332;-73.152608
X-APPLE-STRUCTURED-LOCATION;VALUE=URI;X-ADDRESS=Bayard Cutting Arboretum 440 Montauk Highway Great River NY 11739 United States;X-APPLE-RADIUS=500;X-TITLE=440 Montauk Highway:geo:-73.152608,40.745332
END:VEVENT
BEGIN:VEVENT
DTSTART;TZID=America/New_York:20260509T103000
DTEND;TZID=America/New_York:20260509T113000
DTSTAMP:20260419T175527
CREATED:20260301T215727Z
LAST-MODIFIED:20260301T220014Z
UID:10004371-1778322600-1778326200@bayardcuttingarboretum.com
SUMMARY:Grounds Tours
DESCRIPTION:Grounds Tours\nOutdoor guided tours of the arboretum are offered seasonally\, spring through the fall\, every Saturday at 10:30 am (weather permitting). The tours run approximately 45-60 minutes and cost $5.00/person. \n  \nRegister for a Grounds Tour
URL:https://bayardcuttingarboretum.com/event/free-grounds-tours-2/2026-05-09/
LOCATION:Bayard Cutting Arboretum\, 440 Montauk Highway\, Great River\, NY\, 11739\, United States
CATEGORIES:Grounds Tour
ATTACH;FMTTYPE=image/png:https://bayardcuttingarboretum.com/wp-content/uploads/2023/03/Welcome_Spring_Event.png
ORGANIZER;CN="Bayard Cutting Arboretum":MAILTO:Kristen.Cella@parks.ny.gov
GEO:40.745332;-73.152608
X-APPLE-STRUCTURED-LOCATION;VALUE=URI;X-ADDRESS=Bayard Cutting Arboretum 440 Montauk Highway Great River NY 11739 United States;X-APPLE-RADIUS=500;X-TITLE=440 Montauk Highway:geo:-73.152608,40.745332
END:VEVENT
BEGIN:VEVENT
DTSTART;TZID=America/New_York:20260516T103000
DTEND;TZID=America/New_York:20260516T113000
DTSTAMP:20260419T175527
CREATED:20260301T215727Z
LAST-MODIFIED:20260301T220014Z
UID:10004372-1778927400-1778931000@bayardcuttingarboretum.com
SUMMARY:Grounds Tours
DESCRIPTION:Grounds Tours\nOutdoor guided tours of the arboretum are offered seasonally\, spring through the fall\, every Saturday at 10:30 am (weather permitting). The tours run approximately 45-60 minutes and cost $5.00/person. \n  \nRegister for a Grounds Tour
URL:https://bayardcuttingarboretum.com/event/free-grounds-tours-2/2026-05-16/
LOCATION:Bayard Cutting Arboretum\, 440 Montauk Highway\, Great River\, NY\, 11739\, United States
CATEGORIES:Grounds Tour
ATTACH;FMTTYPE=image/png:https://bayardcuttingarboretum.com/wp-content/uploads/2023/03/Welcome_Spring_Event.png
ORGANIZER;CN="Bayard Cutting Arboretum":MAILTO:Kristen.Cella@parks.ny.gov
GEO:40.745332;-73.152608
X-APPLE-STRUCTURED-LOCATION;VALUE=URI;X-ADDRESS=Bayard Cutting Arboretum 440 Montauk Highway Great River NY 11739 United States;X-APPLE-RADIUS=500;X-TITLE=440 Montauk Highway:geo:-73.152608,40.745332
END:VEVENT
BEGIN:VEVENT
DTSTART;TZID=America/New_York:20260523T103000
DTEND;TZID=America/New_York:20260523T113000
DTSTAMP:20260419T175527
CREATED:20260301T215727Z
LAST-MODIFIED:20260301T220014Z
UID:10004373-1779532200-1779535800@bayardcuttingarboretum.com
SUMMARY:Grounds Tours
DESCRIPTION:Grounds Tours\nOutdoor guided tours of the arboretum are offered seasonally\, spring through the fall\, every Saturday at 10:30 am (weather permitting). The tours run approximately 45-60 minutes and cost $5.00/person. \n  \nRegister for a Grounds Tour
URL:https://bayardcuttingarboretum.com/event/free-grounds-tours-2/2026-05-23/
LOCATION:Bayard Cutting Arboretum\, 440 Montauk Highway\, Great River\, NY\, 11739\, United States
CATEGORIES:Grounds Tour
ATTACH;FMTTYPE=image/png:https://bayardcuttingarboretum.com/wp-content/uploads/2023/03/Welcome_Spring_Event.png
ORGANIZER;CN="Bayard Cutting Arboretum":MAILTO:Kristen.Cella@parks.ny.gov
GEO:40.745332;-73.152608
X-APPLE-STRUCTURED-LOCATION;VALUE=URI;X-ADDRESS=Bayard Cutting Arboretum 440 Montauk Highway Great River NY 11739 United States;X-APPLE-RADIUS=500;X-TITLE=440 Montauk Highway:geo:-73.152608,40.745332
END:VEVENT
END:VCALENDAR