BEGIN:VCALENDAR
VERSION:2.0
PRODID:-//Bayard Cutting Arboretum - ECPv6.15.20//NONSGML v1.0//EN
CALSCALE:GREGORIAN
METHOD:PUBLISH
X-WR-CALNAME:Bayard Cutting Arboretum
X-ORIGINAL-URL:https://bayardcuttingarboretum.com
X-WR-CALDESC:Events for Bayard Cutting Arboretum
REFRESH-INTERVAL;VALUE=DURATION:PT1H
X-Robots-Tag:noindex
X-PUBLISHED-TTL:PT1H
BEGIN:VTIMEZONE
TZID:America/New_York
BEGIN:DAYLIGHT
TZOFFSETFROM:-0500
TZOFFSETTO:-0400
TZNAME:EDT
DTSTART:20240310T070000
END:DAYLIGHT
BEGIN:STANDARD
TZOFFSETFROM:-0400
TZOFFSETTO:-0500
TZNAME:EST
DTSTART:20241103T060000
END:STANDARD
BEGIN:DAYLIGHT
TZOFFSETFROM:-0500
TZOFFSETTO:-0400
TZNAME:EDT
DTSTART:20250309T070000
END:DAYLIGHT
BEGIN:STANDARD
TZOFFSETFROM:-0400
TZOFFSETTO:-0500
TZNAME:EST
DTSTART:20251102T060000
END:STANDARD
BEGIN:DAYLIGHT
TZOFFSETFROM:-0500
TZOFFSETTO:-0400
TZNAME:EDT
DTSTART:20260308T070000
END:DAYLIGHT
BEGIN:STANDARD
TZOFFSETFROM:-0400
TZOFFSETTO:-0500
TZNAME:EST
DTSTART:20261101T060000
END:STANDARD
END:VTIMEZONE
BEGIN:VEVENT
DTSTART;TZID=America/New_York:20251219T110000
DTEND;TZID=America/New_York:20251219T120000
DTSTAMP:20260422T184341
CREATED:20251029T134154Z
LAST-MODIFIED:20251205T132124Z
UID:10002198-1766142000-1766145600@bayardcuttingarboretum.com
SUMMARY:Holiday Manor House Day Tours
DESCRIPTION:Holiday Manor House Day Tours\nTour Times are 11:00 AM\, 11:30 AM\, 1:00 PM\, and 1:30 PM unless otherwise noted. \nFriday\, December 5\, 2025 \nSaturday\, December 6\, 2025 \nSunday\, December 7\, 2025 \nThursday\, December 11\, 2025 \nFriday\, December 12\, 2025\, 1:00 PM & 1:30 PM only \nSaturday\, December 13\, 2025 \nSunday\, December 14th\, 2025 \nThursday\, December 18\, 2025 \nFriday\, December 19\, 2025 \nSaturday\, December 20\, 2025 \nSunday\, December 21\, 2025 \nTuesday\, December 23\, 2025 \nWednesday\, December 24\, 2025\, 11:00 AM only \nFriday\, December 26\, 2025 \nSaturday\, December 27\, 2025 \nSunday\, December 28\, 2025 \n  \nCost: $20 per person \n  \nPurchase Tickets for the Holiday Manor House Tours Here
URL:https://bayardcuttingarboretum.com/event/holiday-manor-house-morning-tours/2025-12-19/
LOCATION:Bayard Cutting Arboretum\, 440 Montauk Highway\, Great River\, NY\, 11739\, United States
CATEGORIES:Event Tours,Manor House Tour
ATTACH;FMTTYPE=image/jpeg:https://bayardcuttingarboretum.com/wp-content/uploads/2025/10/2021-Breakfast-Room-detail-scaled.jpg
ORGANIZER;CN="Bayard Cutting Arboretum":MAILTO:Kristen.Cella@parks.ny.gov
GEO:40.745332;-73.152608
X-APPLE-STRUCTURED-LOCATION;VALUE=URI;X-ADDRESS=Bayard Cutting Arboretum 440 Montauk Highway Great River NY 11739 United States;X-APPLE-RADIUS=500;X-TITLE=440 Montauk Highway:geo:-73.152608,40.745332
END:VEVENT
BEGIN:VEVENT
DTSTART;TZID=America/New_York:20251219T113000
DTEND;TZID=America/New_York:20251219T123000
DTSTAMP:20260422T184341
CREATED:20251029T134513Z
LAST-MODIFIED:20251205T132055Z
UID:10002206-1766143800-1766147400@bayardcuttingarboretum.com
SUMMARY:Holiday Manor House Day Tours
DESCRIPTION:Holiday Manor House Day Tours\nTour Times are 11:00 AM\, 11:30 AM\, 1:00 PM\, and 1:30 PM unless otherwise noted. \nFriday\, December 5\, 2025 \nSaturday\, December 6\, 2025 \nSunday\, December 7\, 2025 \nThursday\, December 11\, 2025 \nFriday\, December 12\, 2025\, 1:00 PM & 1:30 PM only \nSaturday\, December 13\, 2025 \nSunday\, December 14th\, 2025 \nThursday\, December 18\, 2025 \nFriday\, December 19\, 2025 \nSaturday\, December 20\, 2025 \nSunday\, December 21\, 2025 \nTuesday\, December 23\, 2025 \nWednesday\, December 24\, 2025\, 11:00 AM only \nFriday\, December 26\, 2025 \nSaturday\, December 27\, 2025 \nSunday\, December 28\, 2025 \n  \nCost: $20 per person \n  \nPurchase Tickets for the Holiday Manor House Tours Here
URL:https://bayardcuttingarboretum.com/event/holiday-manor-house-morning-tours-2/2025-12-19/
LOCATION:Bayard Cutting Arboretum\, 440 Montauk Highway\, Great River\, NY\, 11739\, United States
CATEGORIES:Event Tours,Manor House Tour
ATTACH;FMTTYPE=image/jpeg:https://bayardcuttingarboretum.com/wp-content/uploads/2025/10/2021-Breakfast-Room-detail-scaled.jpg
ORGANIZER;CN="Bayard Cutting Arboretum":MAILTO:Kristen.Cella@parks.ny.gov
GEO:40.745332;-73.152608
X-APPLE-STRUCTURED-LOCATION;VALUE=URI;X-ADDRESS=Bayard Cutting Arboretum 440 Montauk Highway Great River NY 11739 United States;X-APPLE-RADIUS=500;X-TITLE=440 Montauk Highway:geo:-73.152608,40.745332
END:VEVENT
END:VCALENDAR