BEGIN:VCALENDAR
VERSION:2.0
PRODID:-//Bayard Cutting Arboretum - ECPv6.15.20//NONSGML v1.0//EN
CALSCALE:GREGORIAN
METHOD:PUBLISH
X-ORIGINAL-URL:https://bayardcuttingarboretum.com
X-WR-CALDESC:Events for Bayard Cutting Arboretum
REFRESH-INTERVAL;VALUE=DURATION:PT1H
X-Robots-Tag:noindex
X-PUBLISHED-TTL:PT1H
BEGIN:VTIMEZONE
TZID:America/New_York
BEGIN:DAYLIGHT
TZOFFSETFROM:-0500
TZOFFSETTO:-0400
TZNAME:EDT
DTSTART:20240310T070000
END:DAYLIGHT
BEGIN:STANDARD
TZOFFSETFROM:-0400
TZOFFSETTO:-0500
TZNAME:EST
DTSTART:20241103T060000
END:STANDARD
BEGIN:DAYLIGHT
TZOFFSETFROM:-0500
TZOFFSETTO:-0400
TZNAME:EDT
DTSTART:20250309T070000
END:DAYLIGHT
BEGIN:STANDARD
TZOFFSETFROM:-0400
TZOFFSETTO:-0500
TZNAME:EST
DTSTART:20251102T060000
END:STANDARD
BEGIN:DAYLIGHT
TZOFFSETFROM:-0500
TZOFFSETTO:-0400
TZNAME:EDT
DTSTART:20260308T070000
END:DAYLIGHT
BEGIN:STANDARD
TZOFFSETFROM:-0400
TZOFFSETTO:-0500
TZNAME:EST
DTSTART:20261101T060000
END:STANDARD
END:VTIMEZONE
BEGIN:VEVENT
DTSTART;TZID=America/New_York:20251214T100000
DTEND;TZID=America/New_York:20251214T113000
DTSTAMP:20260422T041954
CREATED:20250715T023933Z
LAST-MODIFIED:20250830T123444Z
UID:10002173-1765706400-1765711800@bayardcuttingarboretum.com
SUMMARY:Walk on the Wild Side: Paradise Island Tour
DESCRIPTION:Walk on the Wild Side: Paradise Island Tour (Ages 12+)\nSunday\, September 21\, 2025 \nSunday\, October 12\, 2025 \nSunday\, November 9\, 2025 \nSunday\, December 14\, 2025 \n  \n10:00 – 11:30 AM \nPURCHASE TICKETS TO WALK ON THE WILD SIDE \n  \n  \nJoin Bayard Cutting Arboretum staff on a guided walking tour of Paradise Island. We’ll explore this unique coastal ecosystem and watch for wildlife. Discussion will revolve around the diversity of plant & wildlife and habitat conservation. \nThis program will include up to 1.5 miles of walking on uneven terrain. Recommended for ages 12+. \n  \n  \n  \n\n\nParking fees may apply; see the website for details: https://bayardcuttingarboretum.com/visit/hours/\nFor any additional questions\, contact Cody Dix via Email: Cody.Dix@parks.ny.gov
URL:https://bayardcuttingarboretum.com/event/walk-on-the-wild-side-paradise-island-tour/2025-12-14/
LOCATION:Bayard Cutting Arboretum\, 440 Montauk Highway\, Great River\, NY\, 11739\, United States
CATEGORIES:Event Tours,Workshops
ATTACH;FMTTYPE=image/jpeg:https://bayardcuttingarboretum.com/wp-content/uploads/2025/07/Courtney-Pure_2017_BCA_ParadiseIsland_0001sm.jpg
ORGANIZER;CN="Bayard Cutting Arboretum":MAILTO:Kristen.Cella@parks.ny.gov
GEO:40.745332;-73.152608
X-APPLE-STRUCTURED-LOCATION;VALUE=URI;X-ADDRESS=Bayard Cutting Arboretum 440 Montauk Highway Great River NY 11739 United States;X-APPLE-RADIUS=500;X-TITLE=440 Montauk Highway:geo:-73.152608,40.745332
END:VEVENT
END:VCALENDAR