BEGIN:VCALENDAR
VERSION:2.0
PRODID:-//Bayard Cutting Arboretum - ECPv6.15.20//NONSGML v1.0//EN
CALSCALE:GREGORIAN
METHOD:PUBLISH
X-ORIGINAL-URL:https://bayardcuttingarboretum.com
X-WR-CALDESC:Events for Bayard Cutting Arboretum
REFRESH-INTERVAL;VALUE=DURATION:PT1H
X-Robots-Tag:noindex
X-PUBLISHED-TTL:PT1H
BEGIN:VTIMEZONE
TZID:America/New_York
BEGIN:DAYLIGHT
TZOFFSETFROM:-0500
TZOFFSETTO:-0400
TZNAME:EDT
DTSTART:20240310T070000
END:DAYLIGHT
BEGIN:STANDARD
TZOFFSETFROM:-0400
TZOFFSETTO:-0500
TZNAME:EST
DTSTART:20241103T060000
END:STANDARD
BEGIN:DAYLIGHT
TZOFFSETFROM:-0500
TZOFFSETTO:-0400
TZNAME:EDT
DTSTART:20250309T070000
END:DAYLIGHT
BEGIN:STANDARD
TZOFFSETFROM:-0400
TZOFFSETTO:-0500
TZNAME:EST
DTSTART:20251102T060000
END:STANDARD
BEGIN:DAYLIGHT
TZOFFSETFROM:-0500
TZOFFSETTO:-0400
TZNAME:EDT
DTSTART:20260308T070000
END:DAYLIGHT
BEGIN:STANDARD
TZOFFSETFROM:-0400
TZOFFSETTO:-0500
TZNAME:EST
DTSTART:20261101T060000
END:STANDARD
END:VTIMEZONE
BEGIN:VEVENT
DTSTART;TZID=America/New_York:20250821T110000
DTEND;TZID=America/New_York:20250914T160000
DTSTAMP:20260421T101254
CREATED:20250825T120020Z
LAST-MODIFIED:20250825T120020Z
UID:10002168-1755774000-1757865600@bayardcuttingarboretum.com
SUMMARY:An Artist's Nature - A Ron Becker Exhibit
DESCRIPTION:  \nAn Artist’s Nature – A Ron Becker Exhibit\nThursday\, August 21 – Sunday\, September 14\, 2025 \nArtist Reception: Sunday\, August 24\, 2025 \n  \nLearn more about the exhibition Here
URL:https://bayardcuttingarboretum.com/event/an-artists-nature-a-ron-becker-exhibit/
LOCATION:Annex Exhibition Space
CATEGORIES:Art Exhibit,Artist Talks
ORGANIZER;CN="Bayard Cutting Arboretum":MAILTO:Kristen.Cella@parks.ny.gov
END:VEVENT
BEGIN:VEVENT
DTSTART;TZID=America/New_York:20250405T140000
DTEND;TZID=America/New_York:20250405T160000
DTSTAMP:20260421T101254
CREATED:20250227T142851Z
LAST-MODIFIED:20250227T142851Z
UID:10001736-1743861600-1743868800@bayardcuttingarboretum.com
SUMMARY:Inspired By Nature Artist Reception
DESCRIPTION:Inspired by Nature – A Collection of Artworks by Linda and Scott Hartman\nOpening reception: Saturday\, April 5 from 2:00 to 4:00 PM \n  \nAbout the Artists\nAfter 33 years of successful years working as art teachers in the Brentwood\, School District\, artists\, Scott and Linda Hartman\, have focused their retirement years on creating\, exhibiting\, and selling their own original artworks. Their inspiration for the art exhibited in this show\, “Inspired By Nature\,” reflects a variety of landscapes\, still-life images\, fiber landscapes\, and natural wood furniture created in various media (watercolors\, acrylics\, fiber and wood). The artist’s goal is to interpret nature through well designed works of art that remind viewers of the beauty of the world around us. \n 
URL:https://bayardcuttingarboretum.com/event/inspired-by-nature-artist-reception/
LOCATION:Annex Exhibition Space
CATEGORIES:Art Exhibit,Artist Reception
ORGANIZER;CN="Bayard Cutting Arboretum":MAILTO:Kristen.Cella@parks.ny.gov
END:VEVENT
BEGIN:VEVENT
DTSTART;TZID=America/New_York:20250327T110000
DTEND;TZID=America/New_York:20250420T160000
DTSTAMP:20260421T101254
CREATED:20250227T143155Z
LAST-MODIFIED:20250227T143155Z
UID:10001737-1743073200-1745164800@bayardcuttingarboretum.com
SUMMARY:Inspired by Nature - A Collection of Artworks by Linda and Scott Hartman Art Exhibit
DESCRIPTION:Inspired by Nature – A Collection of Artworks by Linda and Scott Hartman\nThursday\, March 27\, 2025 – Sunday\, April 20\, 2025 \nOpening reception: Saturday\, April 5 from 2:00 to 4:00 PM \n  \nGallery Hours: 11:00 AM to 4:00 PM \n  \nAbout the Artists\nAfter 33 years of successful years working as art teachers in the Brentwood\, School District\, artists\, Scott and Linda Hartman\, have focused their retirement years on creating\, exhibiting\, and selling their own original artworks. Their inspiration for the art exhibited in this show\, “Inspired By Nature\,” reflects a variety of landscapes\, still-life images\, fiber landscapes\, and natural wood furniture created in various media (watercolors\, acrylics\, fiber and wood). The artist’s goal is to interpret nature through well designed works of art that remind viewers of the beauty of the world around us. \n 
URL:https://bayardcuttingarboretum.com/event/inspired-by-nature-a-collection-of-artworks-by-linda-and-scott-hartman-art-exhibit/
LOCATION:Annex Exhibition Space
CATEGORIES:Art Exhibit
ORGANIZER;CN="Bayard Cutting Arboretum":MAILTO:Kristen.Cella@parks.ny.gov
END:VEVENT
END:VCALENDAR